Package: UPDhmm Version: 1.4.0 Command: /Library/Frameworks/R.framework/Resources/bin/R CMD build --keep-empty-dirs --no-resave-data UPDhmm StartedAt: 2025-10-14 11:37:21 -0400 (Tue, 14 Oct 2025) EndedAt: 2025-10-14 11:37:22 -0400 (Tue, 14 Oct 2025) EllapsedTime: 1.2 seconds RetCode: 0 Status: OK PackageFile: UPDhmm_1.4.0.tar.gz PackageFileSize: 240 KiB