Package: UNDO Version: 1.50.0 Command: /Library/Frameworks/R.framework/Resources/bin/R CMD check --install=check:UNDO.install-out.txt --library=/Library/Frameworks/R.framework/Resources/library --no-vignettes --timings UNDO_1.50.0.tar.gz StartedAt: 2025-10-15 16:17:52 -0400 (Wed, 15 Oct 2025) EndedAt: 2025-10-15 16:18:31 -0400 (Wed, 15 Oct 2025) EllapsedTime: 38.6 seconds RetCode: 0 Status: OK CheckDir: UNDO.Rcheck Warnings: 0