Package: TreeSummarizedExperiment Version: 2.18.0 Command: /home/biocbuild/bbs-3.22-bioc/R/bin/R CMD INSTALL TreeSummarizedExperiment StartedAt: 2025-11-09 15:23:48 -0500 (Sun, 09 Nov 2025) EndedAt: 2025-11-09 15:24:19 -0500 (Sun, 09 Nov 2025) EllapsedTime: 31.6 seconds RetCode: 0 Status: OK