Package: TrajectoryGeometry Version: 1.17.0 Command: /home/biocbuild/R/R/bin/R CMD check --install=check:TrajectoryGeometry.install-out.txt --library=/home/biocbuild/R/R/site-library --no-vignettes --timings TrajectoryGeometry_1.17.0.tar.gz StartedAt: 2025-10-17 14:35:48 -0000 (Fri, 17 Oct 2025) EndedAt: 2025-10-17 14:37:40 -0000 (Fri, 17 Oct 2025) EllapsedTime: 112.2 seconds RetCode: 0 Status: OK CheckDir: TrajectoryGeometry.Rcheck Warnings: 0