Package: TrIdent Version: 1.0.0 Command: E:\biocbuild\bbs-3.21-bioc\R\bin\R.exe CMD INSTALL TrIdent StartedAt: 2025-08-14 15:32:16 -0400 (Thu, 14 Aug 2025) EndedAt: 2025-08-14 15:35:05 -0400 (Thu, 14 Aug 2025) EllapsedTime: 169.4 seconds RetCode: 0 Status: OK