Package: TrIdent Version: 1.0.0 Command: chmod a+r TrIdent -R && E:\biocbuild\bbs-3.21-bioc\R\bin\R.exe CMD build --keep-empty-dirs --no-resave-data TrIdent StartedAt: 2025-08-14 22:49:10 -0400 (Thu, 14 Aug 2025) EndedAt: 2025-08-14 22:51:47 -0400 (Thu, 14 Aug 2025) EllapsedTime: 156.9 seconds RetCode: 0 Status: OK PackageFile: TrIdent_1.0.0.tar.gz PackageFileSize: 1.287 MiB