Package: TrIdent Version: 1.0.0 Command: /home/biocbuild/bbs-3.21-bioc/R/bin/R CMD check --install=check:TrIdent.install-out.txt --library=/home/biocbuild/bbs-3.21-bioc/R/site-library --timings TrIdent_1.0.0.tar.gz StartedAt: 2025-10-06 04:30:41 -0400 (Mon, 06 Oct 2025) EndedAt: 2025-10-06 04:32:24 -0400 (Mon, 06 Oct 2025) EllapsedTime: 103.1 seconds RetCode: 0 Status: OK CheckDir: TrIdent.Rcheck Warnings: 0