Package: TrIdent Version: 1.0.0 Command: /home/biocbuild/bbs-3.21-bioc/R/bin/R CMD build --keep-empty-dirs --no-resave-data TrIdent StartedAt: 2025-10-05 20:25:04 -0400 (Sun, 05 Oct 2025) EndedAt: 2025-10-05 20:25:46 -0400 (Sun, 05 Oct 2025) EllapsedTime: 42.0 seconds RetCode: 0 Status: OK PackageFile: TrIdent_1.0.0.tar.gz PackageFileSize: 1.611 MiB