Package: TrIdent Version: 1.0.0 Command: /Library/Frameworks/R.framework/Resources/bin/R CMD check --install=check:TrIdent.install-out.txt --library=/Library/Frameworks/R.framework/Resources/library --no-vignettes --timings TrIdent_1.0.0.tar.gz StartedAt: 2025-10-03 11:44:10 -0400 (Fri, 03 Oct 2025) EndedAt: 2025-10-03 11:47:34 -0400 (Fri, 03 Oct 2025) EllapsedTime: 204.4 seconds RetCode: 0 Status: OK CheckDir: TrIdent.Rcheck Warnings: 0