Package: TrIdent Version: 1.0.0 Command: rm -rf TrIdent.buildbin-libdir && mkdir TrIdent.buildbin-libdir && /Users/biocbuild/BBS/utils/build-universal.sh TrIdent_1.0.0.tar.gz /Library/Frameworks/R.framework/Resources/bin/R TrIdent.buildbin-libdir StartedAt: 2025-10-03 14:48:19 -0400 (Fri, 03 Oct 2025) EndedAt: 2025-10-03 14:48:46 -0400 (Fri, 03 Oct 2025) EllapsedTime: 26.2 seconds RetCode: 0 Status: OK PackageFile: TrIdent_1.0.0.tgz PackageFileSize: 3.204 MiB