Package: TnT Version: 1.32.0 Command: /home/biocbuild/bbs-3.22-bioc/R/bin/R CMD INSTALL TnT StartedAt: 2025-11-06 15:16:12 -0500 (Thu, 06 Nov 2025) EndedAt: 2025-11-06 15:16:24 -0500 (Thu, 06 Nov 2025) EllapsedTime: 12.3 seconds RetCode: 0 Status: OK