Package: TnT Version: 1.32.0 Command: /home/biocbuild/bbs-3.22-bioc/R/bin/R CMD build --keep-empty-dirs --no-resave-data --md5 TnT StartedAt: 2025-11-06 20:32:57 -0500 (Thu, 06 Nov 2025) EndedAt: 2025-11-06 20:33:17 -0500 (Thu, 06 Nov 2025) EllapsedTime: 20.0 seconds RetCode: 0 Status: OK PackageFile: TnT_1.32.0.tar.gz PackageFileSize: 232.7 KiB