Package: TnT Version: 1.32.0 Command: /Library/Frameworks/R.framework/Resources/bin/R CMD INSTALL TnT StartedAt: 2025-10-31 15:14:30 -0400 (Fri, 31 Oct 2025) EndedAt: 2025-10-31 15:14:35 -0400 (Fri, 31 Oct 2025) EllapsedTime: 4.8 seconds RetCode: 0 Status: OK