Package: TnT Version: 1.32.0 Command: rm -rf TnT.buildbin-libdir && mkdir TnT.buildbin-libdir && /Users/biocbuild/BBS/utils/build-universal.sh TnT_1.32.0.tar.gz /Library/Frameworks/R.framework/Resources/bin/R TnT.buildbin-libdir StartedAt: 2025-10-31 23:26:42 -0400 (Fri, 31 Oct 2025) EndedAt: 2025-10-31 23:26:49 -0400 (Fri, 31 Oct 2025) EllapsedTime: 6.1 seconds RetCode: 0 Status: OK PackageFile: TnT_1.32.0.tgz PackageFileSize: 530.9 KiB