Package: TitanCNA Version: 1.47.1 Command: /home/biocbuild/R/R/bin/R CMD build --keep-empty-dirs --no-resave-data TitanCNA StartedAt: 2025-10-21 03:45:47 -0000 (Tue, 21 Oct 2025) EndedAt: 2025-10-21 03:47:27 -0000 (Tue, 21 Oct 2025) EllapsedTime: 100.0 seconds RetCode: 1 Status: ERROR PackageFile: None PackageFileSize: NA