Package: TitanCNA Version: 1.47.1 Command: F:\biocbuild\bbs-3.22-bioc\R\bin\R.exe CMD INSTALL TitanCNA StartedAt: 2025-08-14 16:43:18 -0400 (Thu, 14 Aug 2025) EndedAt: 2025-08-14 16:44:22 -0400 (Thu, 14 Aug 2025) EllapsedTime: 64.1 seconds RetCode: 0 Status: OK