Package: TitanCNA Version: 1.47.1 Command: chmod a+r TitanCNA -R && F:\biocbuild\bbs-3.22-bioc\R\bin\R.exe CMD build --keep-empty-dirs --no-resave-data TitanCNA StartedAt: 2025-08-14 23:47:06 -0400 (Thu, 14 Aug 2025) EndedAt: 2025-08-14 23:48:52 -0400 (Thu, 14 Aug 2025) EllapsedTime: 105.7 seconds RetCode: 1 Status: ERROR PackageFile: None PackageFileSize: NA