Package: TitanCNA Version: 1.48.0 Command: /home/biocbuild/bbs-3.22-bioc/R/bin/R CMD INSTALL TitanCNA StartedAt: 2025-11-06 15:45:46 -0500 (Thu, 06 Nov 2025) EndedAt: 2025-11-06 15:46:34 -0500 (Thu, 06 Nov 2025) EllapsedTime: 47.7 seconds RetCode: 0 Status: OK