Package: TileDBArray Version: 1.20.0 Command: /home/biocbuild/bbs-3.22-bioc/R/bin/R CMD INSTALL TileDBArray StartedAt: 2025-11-09 15:15:28 -0500 (Sun, 09 Nov 2025) EndedAt: 2025-11-09 15:15:49 -0500 (Sun, 09 Nov 2025) EllapsedTime: 21.0 seconds RetCode: 0 Status: OK