Package: TaxSEA Version: 1.1.9 Command: /home/biocbuild/R/R/bin/R CMD check --install=check:TaxSEA.install-out.txt --library=/home/biocbuild/R/R/site-library --no-vignettes --timings TaxSEA_1.1.9.tar.gz StartedAt: 2025-10-17 14:22:50 -0000 (Fri, 17 Oct 2025) EndedAt: 2025-10-17 14:23:38 -0000 (Fri, 17 Oct 2025) EllapsedTime: 48.1 seconds RetCode: 0 Status: OK CheckDir: TaxSEA.Rcheck Warnings: 0