############################################################################## ############################################################################## ### ### Running command: ### ### rm -rf TaxSEA.buildbin-libdir && mkdir TaxSEA.buildbin-libdir && F:\biocbuild\bbs-3.22-bioc\R\bin\R.exe CMD INSTALL --build --library=TaxSEA.buildbin-libdir TaxSEA_1.1.8.tar.gz ### ############################################################################## ############################################################################## * installing *source* package 'TaxSEA' ... ** this is package 'TaxSEA' version '1.1.8' ** using staged installation ** R ** data ** inst ** byte-compile and prepare package for lazy loading ** help *** installing help indices ** building package indices ** installing vignettes ** testing if installed package can be loaded from temporary location ** testing if installed package can be loaded from final location ** testing if installed package keeps a record of temporary installation path * MD5 sums packaged installation of 'TaxSEA' as TaxSEA_1.1.8.zip * DONE (TaxSEA)