Package: TaxSEA Version: 1.2.0 Command: /Library/Frameworks/R.framework/Resources/bin/R CMD build --keep-empty-dirs --no-resave-data TaxSEA StartedAt: 2025-11-03 19:03:29 -0500 (Mon, 03 Nov 2025) EndedAt: 2025-11-03 19:03:45 -0500 (Mon, 03 Nov 2025) EllapsedTime: 16.0 seconds RetCode: 0 Status: OK PackageFile: TaxSEA_1.2.0.tar.gz PackageFileSize: 350.5 KiB