Package: TaxSEA Version: 1.2.0 Command: /Library/Frameworks/R.framework/Resources/bin/R CMD build --keep-empty-dirs --no-resave-data TaxSEA StartedAt: 2025-11-06 17:57:40 -0500 (Thu, 06 Nov 2025) EndedAt: 2025-11-06 17:57:51 -0500 (Thu, 06 Nov 2025) EllapsedTime: 11.1 seconds RetCode: 0 Status: OK PackageFile: TaxSEA_1.2.0.tar.gz PackageFileSize: 350.5 KiB