Package: TaxSEA Version: 1.2.0 Maintainer: Feargal Ryan MaintainerEmail: feargalr at gmail.com git_url: https://git.bioconductor.org/packages/TaxSEA git_branch: RELEASE_3_22 git_last_commit: e59c6e8 git_last_commit_date: 2025-10-29 11:36:26 -0500 (Wed, 29 Oct 2025)