Package: TargetSearch Version: 2.12.0 Command: /home/biocbuild/bbs-3.22-bioc/R/bin/R CMD INSTALL TargetSearch StartedAt: 2025-11-06 15:01:45 -0500 (Thu, 06 Nov 2025) EndedAt: 2025-11-06 15:01:57 -0500 (Thu, 06 Nov 2025) EllapsedTime: 12.1 seconds RetCode: 0 Status: OK