Package: TargetSearch Version: 2.12.0 Command: /Library/Frameworks/R.framework/Resources/bin/R CMD check --install=check:TargetSearch.install-out.txt --library=/Library/Frameworks/R.framework/Resources/library --no-vignettes --timings TargetSearch_2.12.0.tar.gz StartedAt: 2025-11-04 00:46:23 -0500 (Tue, 04 Nov 2025) EndedAt: 2025-11-04 00:48:04 -0500 (Tue, 04 Nov 2025) EllapsedTime: 101.1 seconds RetCode: 0 Status: OK CheckDir: TargetSearch.Rcheck Warnings: 0