Package: TargetSearch Version: 2.12.0 Command: /Library/Frameworks/R.framework/Resources/bin/R CMD check --install=check:TargetSearch.install-out.txt --library=/Library/Frameworks/R.framework/Resources/library --no-vignettes --timings TargetSearch_2.12.0.tar.gz StartedAt: 2025-11-09 22:31:47 -0500 (Sun, 09 Nov 2025) EndedAt: 2025-11-09 22:32:23 -0500 (Sun, 09 Nov 2025) EllapsedTime: 36.5 seconds RetCode: 0 Status: OK CheckDir: TargetSearch.Rcheck Warnings: 0