Package: TargetDecoy Version: 1.16.0 Command: /home/biocbuild/bbs-3.22-bioc/R/bin/R CMD INSTALL TargetDecoy StartedAt: 2025-11-14 15:24:23 -0500 (Fri, 14 Nov 2025) EndedAt: 2025-11-14 15:24:34 -0500 (Fri, 14 Nov 2025) EllapsedTime: 10.7 seconds RetCode: 0 Status: OK