Package: TargetDecoy Version: 1.16.0 Command: /Library/Frameworks/R.framework/Resources/bin/R CMD INSTALL TargetDecoy StartedAt: 2025-11-02 15:10:15 -0500 (Sun, 02 Nov 2025) EndedAt: 2025-11-02 15:10:19 -0500 (Sun, 02 Nov 2025) EllapsedTime: 4.3 seconds RetCode: 0 Status: OK