Package: TargetDecoy Version: 1.16.0 Command: /Library/Frameworks/R.framework/Resources/bin/R CMD build --keep-empty-dirs --no-resave-data TargetDecoy StartedAt: 2025-10-31 18:01:09 -0400 (Fri, 31 Oct 2025) EndedAt: 2025-10-31 18:01:29 -0400 (Fri, 31 Oct 2025) EllapsedTime: 20.2 seconds RetCode: 0 Status: OK PackageFile: TargetDecoy_1.16.0.tar.gz PackageFileSize: 4.165 MiB