Package: TSCAN Version: 1.48.0 Command: /home/biocbuild/R/R/bin/R CMD INSTALL TSCAN StartedAt: 2025-11-20 22:29:09 -0000 (Thu, 20 Nov 2025) EndedAt: 2025-11-20 22:29:45 -0000 (Thu, 20 Nov 2025) EllapsedTime: 36.7 seconds RetCode: 0 Status: OK