Package: TSAR Version: 1.6.0 Command: /Library/Frameworks/R.framework/Resources/bin/R CMD check --install=check:TSAR.install-out.txt --library=/Library/Frameworks/R.framework/Resources/library --no-vignettes --timings TSAR_1.6.0.tar.gz StartedAt: 2025-10-14 11:58:58 -0400 (Tue, 14 Oct 2025) EndedAt: 2025-10-14 12:04:28 -0400 (Tue, 14 Oct 2025) EllapsedTime: 329.4 seconds RetCode: 0 Status: OK CheckDir: TSAR.Rcheck Warnings: 0