Package: TSAR Version: 1.6.0 Command: rm -rf TSAR.buildbin-libdir && mkdir TSAR.buildbin-libdir && /Users/biocbuild/BBS/utils/build-universal.sh TSAR_1.6.0.tar.gz /Library/Frameworks/R.framework/Resources/bin/R TSAR.buildbin-libdir StartedAt: 2025-10-14 15:00:33 -0400 (Tue, 14 Oct 2025) EndedAt: 2025-10-14 15:01:10 -0400 (Tue, 14 Oct 2025) EllapsedTime: 37.1 seconds RetCode: 0 Status: OK PackageFile: TSAR_1.6.0.tgz PackageFileSize: 3.978 MiB