Package: TSAR Version: 1.6.0 Command: /home/biocbuild/R/R/bin/R CMD build --keep-empty-dirs --no-resave-data TSAR StartedAt: 2025-10-14 05:32:11 -0000 (Tue, 14 Oct 2025) EndedAt: 2025-10-14 05:35:22 -0000 (Tue, 14 Oct 2025) EllapsedTime: 191.2 seconds RetCode: 0 Status: OK PackageFile: TSAR_1.6.0.tar.gz PackageFileSize: 3.88 MiB