Package: TSAR Version: 1.6.0 Command: /Library/Frameworks/R.framework/Resources/bin/R CMD check --install=check:TSAR.install-out.txt --library=/Library/Frameworks/R.framework/Resources/library --no-vignettes --timings TSAR_1.6.0.tar.gz StartedAt: 2025-04-21 22:13:02 -0400 (Mon, 21 Apr 2025) EndedAt: 2025-04-21 22:14:01 -0400 (Mon, 21 Apr 2025) EllapsedTime: 58.8 seconds RetCode: 0 Status: OK CheckDir: TSAR.Rcheck Warnings: 0