Package: TSAR Version: 1.6.0 Command: /Library/Frameworks/R.framework/Resources/bin/R CMD build --keep-empty-dirs --no-resave-data TSAR StartedAt: 2025-04-21 17:55:24 -0400 (Mon, 21 Apr 2025) EndedAt: 2025-04-21 17:56:10 -0400 (Mon, 21 Apr 2025) EllapsedTime: 45.6 seconds RetCode: 0 Status: OK PackageFile: TSAR_1.6.0.tar.gz PackageFileSize: 4.047 MiB