Package: TSAR Version: 1.6.0 Command: rm -rf TSAR.buildbin-libdir && mkdir TSAR.buildbin-libdir && /Users/biocbuild/BBS/utils/build-universal.sh TSAR_1.6.0.tar.gz /Library/Frameworks/R.framework/Resources/bin/R TSAR.buildbin-libdir StartedAt: 2025-04-21 22:55:59 -0400 (Mon, 21 Apr 2025) EndedAt: 2025-04-21 22:56:04 -0400 (Mon, 21 Apr 2025) EllapsedTime: 5.1 seconds RetCode: 0 Status: OK PackageFile: TSAR_1.6.0.tgz PackageFileSize: 3.982 MiB