Package: TSAR Version: 1.6.0 Command: /Library/Frameworks/R.framework/Resources/bin/R CMD INSTALL TSAR StartedAt: 2025-10-13 15:27:33 -0400 (Mon, 13 Oct 2025) EndedAt: 2025-10-13 15:27:50 -0400 (Mon, 13 Oct 2025) EllapsedTime: 17.0 seconds RetCode: 0 Status: OK