Package: TRESS Version: 1.16.0 Command: /home/biocbuild/R/R/bin/R CMD INSTALL TRESS StartedAt: 2025-11-17 21:46:51 -0000 (Mon, 17 Nov 2025) EndedAt: 2025-11-17 21:47:38 -0000 (Mon, 17 Nov 2025) EllapsedTime: 46.8 seconds RetCode: 0 Status: OK