Package: TRESS Version: 1.14.0 Command: rm -rf TRESS.buildbin-libdir && mkdir TRESS.buildbin-libdir && E:\biocbuild\bbs-3.21-bioc\R\bin\R.exe CMD INSTALL --build --library=TRESS.buildbin-libdir TRESS_1.14.0.tar.gz StartedAt: 2025-08-15 10:31:35 -0400 (Fri, 15 Aug 2025) EndedAt: 2025-08-15 10:32:26 -0400 (Fri, 15 Aug 2025) EllapsedTime: 50.7 seconds RetCode: 0 Status: OK PackageFile: TRESS_1.14.0.zip PackageFileSize: 687.6 KiB