Package: TREG Version: 1.12.0 Command: E:\biocbuild\bbs-3.21-bioc\R\bin\R.exe CMD INSTALL TREG StartedAt: 2025-08-14 16:38:44 -0400 (Thu, 14 Aug 2025) EndedAt: 2025-08-14 16:39:14 -0400 (Thu, 14 Aug 2025) EllapsedTime: 29.9 seconds RetCode: 0 Status: OK