Package: TREG Version: 1.12.0 Command: rm -rf TREG.buildbin-libdir && mkdir TREG.buildbin-libdir && E:\biocbuild\bbs-3.21-bioc\R\bin\R.exe CMD INSTALL --build --library=TREG.buildbin-libdir TREG_1.12.0.tar.gz StartedAt: 2025-08-15 10:31:32 -0400 (Fri, 15 Aug 2025) EndedAt: 2025-08-15 10:31:58 -0400 (Fri, 15 Aug 2025) EllapsedTime: 26.0 seconds RetCode: 0 Status: OK PackageFile: TREG_1.12.0.zip PackageFileSize: 1.685 MiB