Package: TPP2D Version: 1.24.1 Command: /home/biocbuild/bbs-3.21-bioc/R/bin/R CMD INSTALL TPP2D StartedAt: 2025-10-15 15:08:44 -0400 (Wed, 15 Oct 2025) EndedAt: 2025-10-15 15:08:51 -0400 (Wed, 15 Oct 2025) EllapsedTime: 7.6 seconds RetCode: 0 Status: OK