Package: TPP2D Version: 1.24.1 Command: /home/biocbuild/bbs-3.21-bioc/R/bin/R CMD build --keep-empty-dirs --no-resave-data TPP2D StartedAt: 2025-10-15 20:21:07 -0400 (Wed, 15 Oct 2025) EndedAt: 2025-10-15 20:21:41 -0400 (Wed, 15 Oct 2025) EllapsedTime: 34.1 seconds RetCode: 0 Status: OK PackageFile: TPP2D_1.24.1.tar.gz PackageFileSize: 2.301 MiB