Package: TPP Version: 3.36.0 Command: /home/biocbuild/R/R/bin/R CMD INSTALL TPP StartedAt: 2025-10-13 20:24:51 -0000 (Mon, 13 Oct 2025) EndedAt: 2025-10-13 20:25:11 -0000 (Mon, 13 Oct 2025) EllapsedTime: 19.9 seconds RetCode: 0 Status: OK