Package: TPP Version: 3.36.0 Command: /home/biocbuild/R/R/bin/R CMD build --keep-empty-dirs --no-resave-data TPP StartedAt: 2025-10-14 05:26:42 -0000 (Tue, 14 Oct 2025) EndedAt: 2025-10-14 05:28:59 -0000 (Tue, 14 Oct 2025) EllapsedTime: 136.1 seconds RetCode: 0 Status: OK PackageFile: TPP_3.36.0.tar.gz PackageFileSize: 8.41 MiB