Package: TOP Version: 1.9.0 Command: F:\biocbuild\bbs-3.22-bioc\R\bin\R.exe CMD INSTALL TOP StartedAt: 2025-08-14 16:07:14 -0400 (Thu, 14 Aug 2025) EndedAt: 2025-08-14 16:07:58 -0400 (Thu, 14 Aug 2025) EllapsedTime: 44.1 seconds RetCode: 0 Status: OK