Package: TOP Version: 1.10.0 Command: /home/biocbuild/bbs-3.22-bioc/R/bin/R CMD INSTALL TOP StartedAt: 2025-11-13 15:29:47 -0500 (Thu, 13 Nov 2025) EndedAt: 2025-11-13 15:30:19 -0500 (Thu, 13 Nov 2025) EllapsedTime: 32.4 seconds RetCode: 0 Status: OK