Package: TOP Version: 1.10.0 Command: /home/biocbuild/bbs-3.22-bioc/R/bin/R CMD check --install=check:TOP.install-out.txt --library=/home/biocbuild/bbs-3.22-bioc/R/site-library --timings TOP_1.10.0.tar.gz StartedAt: 2025-11-14 05:04:29 -0500 (Fri, 14 Nov 2025) EndedAt: 2025-11-14 05:08:52 -0500 (Fri, 14 Nov 2025) EllapsedTime: 263.3 seconds RetCode: 0 Status: OK CheckDir: TOP.Rcheck Warnings: 0