Package: TOP Version: 1.8.0 Command: /Library/Frameworks/R.framework/Resources/bin/R CMD INSTALL TOP StartedAt: 2025-10-13 15:52:00 -0400 (Mon, 13 Oct 2025) EndedAt: 2025-10-13 15:53:19 -0400 (Mon, 13 Oct 2025) EllapsedTime: 79.0 seconds RetCode: 0 Status: OK